BEGIN:VCALENDAR
VERSION:2.0
PRODID:-//Squarespace Inc/Squarespace 6//v6//EN
BEGIN:VEVENT
UID:6053682d99bb1404f2799a96@squarespace.com
DTSTAMP:20210318T144833Z
DTSTART:20210512T223000Z
DTEND:20210512T233000Z
SUMMARY:Intermediate
END:VEVENT
END:VCALENDAR
