BEGIN:VCALENDAR
VERSION:2.0
PRODID:-//Squarespace Inc/Squarespace 6//v6//EN
BEGIN:VEVENT
UID:605368497458c27bdd847e45@squarespace.com
DTSTAMP:20210318T144902Z
DTSTART:20210519T223000Z
DTEND:20210519T233000Z
SUMMARY:Intermediate
END:VEVENT
END:VCALENDAR
