BEGIN:VCALENDAR
VERSION:2.0
PRODID:-//Squarespace Inc/Squarespace 6//v6//EN
BEGIN:VEVENT
UID:5f2d4f63be67457c9f42d96d@squarespace.com
DTSTAMP:20200811T155628Z
DTSTART:20201006T183000Z
DTEND:20201006T193000Z
SUMMARY:Intermediate
END:VEVENT
END:VCALENDAR
