BEGIN:VCALENDAR
VERSION:2.0
PRODID:-//Squarespace Inc/Squarespace 6//v6//EN
BEGIN:VEVENT
UID:60536ba5bbc8870c7db706ef@squarespace.com
DTSTAMP:20210318T150321Z
DTSTART:20210511T213000Z
DTEND:20210511T223000Z
SUMMARY:Intermediate Repertory
END:VEVENT
END:VCALENDAR
