BEGIN:VCALENDAR
VERSION:2.0
PRODID:-//Squarespace Inc/Squarespace 6//v6//EN
BEGIN:VEVENT
UID:5ee4dc725a9c172e40832379@squarespace.com
DTSTAMP:20200620T130437Z
DTSTART:20200723T223000Z
DTEND:20200723T233000Z
SUMMARY:Advanced Beginner Tap (Week 3)
END:VEVENT
END:VCALENDAR
