BEGIN:VCALENDAR
VERSION:2.0
PRODID:-//Squarespace Inc/Squarespace 6//v6//EN
BEGIN:VEVENT
UID:5ee4dacdd0f44c604e170355@squarespace.com
DTSTAMP:20200718T204046Z
DTSTART:20200729T160000Z
DTEND:20200729T170000Z
SUMMARY:Advanced Beginner (Week 4)
END:VEVENT
END:VCALENDAR
