BEGIN:VCALENDAR
VERSION:2.0
PRODID:-//Squarespace Inc/Squarespace 6//v6//EN
BEGIN:VEVENT
UID:605369aae6d47041d9a08e00@squarespace.com
DTSTAMP:20210318T145508Z
DTSTART:20210512T171500Z
DTEND:20210512T181500Z
SUMMARY:Beginner
END:VEVENT
END:VCALENDAR
