BEGIN:VCALENDAR
VERSION:2.0
PRODID:-//Squarespace Inc/Squarespace 6//v6//EN
BEGIN:VEVENT
UID:605369d50c6b7f5a87875607@squarespace.com
DTSTAMP:20210318T145552Z
DTSTART:20210519T171500Z
DTEND:20210519T181500Z
SUMMARY:Beginner
END:VEVENT
END:VCALENDAR
