BEGIN:VCALENDAR
VERSION:2.0
PRODID:-//Squarespace Inc/Squarespace 6//v6//EN
BEGIN:VEVENT
UID:5f13007f74141a786962283b@squarespace.com
DTSTAMP:20200816T005259Z
DTSTART:20200824T160000Z
DTEND:20200824T170000Z
SUMMARY:Beginner (Week 4)
END:VEVENT
END:VCALENDAR
