BEGIN:VCALENDAR
VERSION:2.0
PRODID:-//Squarespace Inc/Squarespace 6//v6//EN
BEGIN:VEVENT
UID:605376bd4d80d74087515a94@squarespace.com
DTSTAMP:20210318T155037Z
DTSTART:20210517T160000Z
DTEND:20210517T170000Z
SUMMARY:Beginner
END:VEVENT
END:VCALENDAR
