BEGIN:VCALENDAR
VERSION:2.0
PRODID:-//Squarespace Inc/Squarespace 6//v6//EN
BEGIN:VEVENT
UID:605376d6568da263e1a48a84@squarespace.com
DTSTAMP:20210318T155108Z
DTSTART:20210524T160000Z
DTEND:20210524T170000Z
SUMMARY:Beginner
END:VEVENT
END:VCALENDAR
