BEGIN:VCALENDAR
VERSION:2.0
PRODID:-//Squarespace Inc/Squarespace 6//v6//EN
BEGIN:VEVENT
UID:5f13002c40592a38718216f5@squarespace.com
DTSTAMP:20200816T004826Z
DTSTART:20200817T160000Z
DTEND:20200817T170000Z
SUMMARY:Beginner (Week 3)
END:VEVENT
END:VCALENDAR
