BEGIN:VCALENDAR
VERSION:2.0
PRODID:-//Squarespace Inc/Squarespace 6//v6//EN
BEGIN:VEVENT
UID:5f12fe8155e4ba6ef20d61d4@squarespace.com
DTSTAMP:20200730T110046Z
DTSTART:20200803T160000Z
DTEND:20200803T170000Z
SUMMARY:Beginner (Week 1)
END:VEVENT
END:VCALENDAR
