BEGIN:VCALENDAR
VERSION:2.0
PRODID:-//Squarespace Inc/Squarespace 6//v6//EN
BEGIN:VEVENT
UID:60536d5ded99ac306c80aee2@squarespace.com
DTSTAMP:20210318T151042Z
DTSTART:20210518T171500Z
DTEND:20210518T181500Z
SUMMARY:Basic
END:VEVENT
END:VCALENDAR
