BEGIN:VCALENDAR
VERSION:2.0
PRODID:-//Squarespace Inc/Squarespace 6//v6//EN
BEGIN:VEVENT
UID:5f1301d78f488a75b50de5d0@squarespace.com
DTSTAMP:20200730T145818Z
DTSTART:20200803T171500Z
DTEND:20200803T181500Z
SUMMARY:Basic (Week 1)
END:VEVENT
END:VCALENDAR
