BEGIN:VCALENDAR
VERSION:2.0
PRODID:-//Squarespace Inc/Squarespace 6//v6//EN
BEGIN:VEVENT
UID:5f13032e7b47154ceab24eff@squarespace.com
DTSTAMP:20200816T005313Z
DTSTART:20200824T171500Z
DTEND:20200824T181500Z
SUMMARY:Basic (Week 4)
END:VEVENT
END:VCALENDAR
