BEGIN:VCALENDAR
VERSION:2.0
PRODID:-//Squarespace Inc/Squarespace 6//v6//EN
BEGIN:VEVENT
UID:60537508881aa35eb81df02d@squarespace.com
DTSTAMP:20210318T154324Z
DTSTART:20210517T171500Z
DTEND:20210517T181500Z
SUMMARY:Basic
END:VEVENT
END:VCALENDAR
