BEGIN:VCALENDAR
VERSION:2.0
PRODID:-//Squarespace Inc/Squarespace 6//v6//EN
BEGIN:VEVENT
UID:605374b93cd8501f5c7ce636@squarespace.com
DTSTAMP:20210318T154213Z
DTSTART:20210510T171500Z
DTEND:20210510T181500Z
SUMMARY:Basic
END:VEVENT
END:VCALENDAR
