BEGIN:VCALENDAR
VERSION:2.0
PRODID:-//Squarespace Inc/Squarespace 6//v6//EN
BEGIN:VEVENT
UID:5f2d4bd959a63275f741da57@squarespace.com
DTSTAMP:20200811T145501Z
DTSTART:20200918T160000Z
DTEND:20200918T170000Z
SUMMARY:Basic
END:VEVENT
END:VCALENDAR
