BEGIN:VCALENDAR
VERSION:2.0
PRODID:-//Squarespace Inc/Squarespace 6//v6//EN
BEGIN:VEVENT
UID:5f1302486a60d4516a13d66b@squarespace.com
DTSTAMP:20200730T150841Z
DTSTART:20200810T171500Z
DTEND:20200810T181500Z
SUMMARY:Basic (Week 2)
END:VEVENT
END:VCALENDAR
