BEGIN:VCALENDAR
VERSION:2.0
PRODID:-//Squarespace Inc/Squarespace 6//v6//EN
BEGIN:VEVENT
UID:6053662ca9d5df17b3229560@squarespace.com
DTSTAMP:20210318T144003Z
DTSTART:20210512T223000Z
DTEND:20210512T233000Z
SUMMARY:Advanced Beginner
END:VEVENT
END:VCALENDAR
