BEGIN:VCALENDAR
VERSION:2.0
PRODID:-//Squarespace Inc/Squarespace 6//v6//EN
BEGIN:VEVENT
UID:6054a9d195ac577b82978dfe@squarespace.com
DTSTAMP:20210319T134101Z
DTSTART:20210522T220000Z
DTEND:20210522T230000Z
SUMMARY:Advanced Beginner
END:VEVENT
END:VCALENDAR
