BEGIN:VCALENDAR
VERSION:2.0
PRODID:-//Squarespace Inc/Squarespace 6//v6//EN
BEGIN:VEVENT
UID:6054a9b346a9d23157521f0b@squarespace.com
DTSTAMP:20210319T134024Z
DTSTART:20210515T220000Z
DTEND:20210515T230000Z
SUMMARY:Advanced Beginner
END:VEVENT
END:VCALENDAR
