BEGIN:VCALENDAR
VERSION:2.0
PRODID:-//Squarespace Inc/Squarespace 6//v6//EN
BEGIN:VEVENT
UID:5f134a4d7b47154ceabacb23@squarespace.com
DTSTAMP:20200730T150032Z
DTSTART:20200804T160000Z
DTEND:20200804T170000Z
SUMMARY:Advanced Beginner (Week 1)
END:VEVENT
END:VCALENDAR
