BEGIN:VCALENDAR
VERSION:2.0
PRODID:-//Squarespace Inc/Squarespace 6//v6//EN
BEGIN:VEVENT
UID:5f134b3786531d20ab59d569@squarespace.com
DTSTAMP:20200816T005343Z
DTSTART:20200825T160000Z
DTEND:20200825T170000Z
SUMMARY:Advanced Beginner (Week 4)
END:VEVENT
END:VCALENDAR
