BEGIN:VCALENDAR
VERSION:2.0
PRODID:-//Squarespace Inc/Squarespace 6//v6//EN
BEGIN:VEVENT
UID:60536f349062995a77a5b640@squarespace.com
DTSTAMP:20210318T151828Z
DTSTART:20210518T160000Z
DTEND:20210518T170000Z
SUMMARY:Advanced Beginner
END:VEVENT
END:VCALENDAR
