BEGIN:VCALENDAR
VERSION:2.0
PRODID:-//Squarespace Inc/Squarespace 6//v6//EN
BEGIN:VEVENT
UID:5f1303a055e4ba6ef20dcc67@squarespace.com
DTSTAMP:20200730T145834Z
DTSTART:20200803T223000Z
DTEND:20200803T233000Z
SUMMARY:Absolute Beginner (Week 1)
END:VEVENT
END:VCALENDAR
