BEGIN:VCALENDAR
VERSION:2.0
PRODID:-//Squarespace Inc/Squarespace 6//v6//EN
BEGIN:VEVENT
UID:5f1304d186531d20ab519271@squarespace.com
DTSTAMP:20200816T005327Z
DTSTART:20200824T223000Z
DTEND:20200824T233000Z
SUMMARY:Absolute Beginner (Week 4)
END:VEVENT
END:VCALENDAR
