BEGIN:VCALENDAR
VERSION:2.0
PRODID:-//Squarespace Inc/Squarespace 6//v6//EN
BEGIN:VEVENT
UID:5f2d4d1acc46b01da8efe957@squarespace.com
DTSTAMP:20200811T154155Z
DTSTART:20200928T223000Z
DTEND:20200928T233000Z
SUMMARY:Absolute Beginner
END:VEVENT
END:VCALENDAR
