BEGIN:VCALENDAR
VERSION:2.0
PRODID:-//Squarespace Inc/Squarespace 6//v6//EN
BEGIN:VEVENT
UID:5f2d4eaf6ba07c7942fd7ffd@squarespace.com
DTSTAMP:20200811T160546Z
DTSTART:20201012T223000Z
DTEND:20201012T233000Z
SUMMARY:Absolute Beginner
END:VEVENT
END:VCALENDAR
