BEGIN:VCALENDAR
VERSION:2.0
PRODID:-//Squarespace Inc/Squarespace 6//v6//EN
BEGIN:VEVENT
UID:6054a828eaad927ba2632867@squarespace.com
DTSTAMP:20210319T133350Z
DTSTART:20210521T224500Z
DTEND:20210521T234500Z
SUMMARY:Absolute Beginner
END:VEVENT
END:VCALENDAR
