BEGIN:VCALENDAR
VERSION:2.0
PRODID:-//Squarespace Inc/Squarespace 6//v6//EN
BEGIN:VEVENT
UID:6054a811bdce8423667ea25b@squarespace.com
DTSTAMP:20210319T133323Z
DTSTART:20210514T224500Z
DTEND:20210514T234500Z
SUMMARY:Absolute Beginner
END:VEVENT
END:VCALENDAR
