BEGIN:VCALENDAR
VERSION:2.0
PRODID:-//Squarespace Inc/Squarespace 6//v6//EN
BEGIN:VEVENT
UID:605370ba0c6b7f5a87881cd6@squarespace.com
DTSTAMP:20210318T152458Z
DTSTART:20210510T223000Z
DTEND:20210510T233000Z
SUMMARY:Absolute Beginner
END:VEVENT
END:VCALENDAR
