BEGIN:VCALENDAR
VERSION:2.0
PRODID:-//Squarespace Inc/Squarespace 6//v6//EN
BEGIN:VEVENT
UID:605370d108e3d00b7e762df2@squarespace.com
DTSTAMP:20210318T152529Z
DTSTART:20210517T223000Z
DTEND:20210517T233000Z
SUMMARY:Absolute Beginner
END:VEVENT
END:VCALENDAR
