BEGIN:VCALENDAR
VERSION:2.0
PRODID:-//Squarespace Inc/Squarespace 6//v6//EN
BEGIN:VEVENT
UID:5f1304248f488a75b50e16bb@squarespace.com
DTSTAMP:20200730T161455Z
DTSTART:20200810T223000Z
DTEND:20200810T233000Z
SUMMARY:Absolute Beginner (Week 2)
END:VEVENT
END:VCALENDAR
