BEGIN:VCALENDAR
VERSION:2.0
PRODID:-//Squarespace Inc/Squarespace 6//v6//EN
BEGIN:VEVENT
UID:6076d7aaa49c3b3901bafb7c@squarespace.com
DTSTAMP:20210611T140412Z
DTSTART:20210710T153000Z
DTEND:20210710T163000Z
SUMMARY:Tap it Out & Stamp Dedication
END:VEVENT
END:VCALENDAR
