BEGIN:VCALENDAR
VERSION:2.0
PRODID:-//Squarespace Inc/Squarespace 6//v6//EN
BEGIN:VEVENT
UID:603ff51a9c42a76bdaa2d234@squarespace.com
DTSTAMP:20210529T133726Z
DTSTART:20210706T190000Z
DTEND:20210706T203000Z
SUMMARY:Copasetic Boat Ride &amp\; Tap Jam
END:VEVENT
END:VCALENDAR
