BEGIN:VCALENDAR
VERSION:2.0
PRODID:-//Squarespace Inc/Squarespace 6//v6//EN
BEGIN:VEVENT
UID:603ff51a9c42a76bdaa2d23a@squarespace.com
DTSTAMP:20210615T130432Z
DTSTART:20210708T190000Z
DTEND:20210708T200000Z
SUMMARY:Rhythm in Motion Concert (Program A)
END:VEVENT
END:VCALENDAR
