BEGIN:VCALENDAR
VERSION:2.0
PRODID:-//Squarespace Inc/Squarespace 6//v6//EN
BEGIN:VEVENT
UID:603ff866481ab04aeba7571d@squarespace.com
DTSTAMP:20210611T204456Z
DTSTART:20210709T200000Z
DTEND:20210709T210000Z
SUMMARY:Rhythm in Motion Talk Back (Program B)
END:VEVENT
END:VCALENDAR
