BEGIN:VCALENDAR
VERSION:2.0
PRODID:-//Squarespace Inc/Squarespace 6//v6//EN
BEGIN:VEVENT
UID:6042a2ac98b7262ced3d02f1@squarespace.com
DTSTAMP:20210611T204401Z
DTSTART:20210708T200000Z
DTEND:20210708T210000Z
SUMMARY:Rhythm in Motion Talk Back (Program A)
END:VEVENT
END:VCALENDAR
