BEGIN:VCALENDAR
VERSION:2.0
PRODID:-//Squarespace Inc/Squarespace 6//v6//EN
BEGIN:VEVENT
UID:6042a00f929bf4340692164e@squarespace.com
DTSTAMP:20210615T130238Z
DTSTART:20210709T190000Z
DTEND:20210709T200000Z
SUMMARY:Rhythm in Motion Concert (Program B)
END:VEVENT
END:VCALENDAR
