BEGIN:VCALENDAR
VERSION:2.0
PRODID:-//Squarespace Inc/Squarespace 6//v6//EN
BEGIN:VEVENT
UID:603ff51a9c42a76bdaa2d238@squarespace.com
DTSTAMP:20210612T184718Z
DTSTART:20210707T190000Z
DTEND:20210707T223000Z
SUMMARY:Tap Awards
END:VEVENT
END:VCALENDAR
