BEGIN:VCALENDAR
VERSION:2.0
PRODID:-//Squarespace Inc/Squarespace 6//v6//EN
BEGIN:VEVENT
UID:606a656c47bc556d4052b817@squarespace.com
DTSTAMP:20210611T201205Z
DTSTART:20210706T210000Z
DTEND:20210706T220000Z
SUMMARY:Tap Tributes 
END:VEVENT
END:VCALENDAR
