BEGIN:VCALENDAR
VERSION:2.0
PRODID:-//Squarespace Inc/Squarespace 6//v6//EN
BEGIN:VEVENT
UID:603ff51a9c42a76bdaa2d23c@squarespace.com
DTSTAMP:20210529T135154Z
DTSTART:20210710T210000Z
DTEND:20210710T220000Z
SUMMARY:Tap Treasures
END:VEVENT
END:VCALENDAR
