BEGIN:VCALENDAR
VERSION:2.0
PRODID:-//Squarespace Inc/Squarespace 6//v6//EN
BEGIN:VEVENT
UID:5eb2f60ca3103e42daa53c7b@squarespace.com
DTSTAMP:20210519T122804Z
DTSTART:20210613T190000Z
DTEND:20210614T000000Z
SUMMARY:Tap City Youth Concert
GEO:40.79396;-73.97262
LOCATION:Circle Line Tours\, Circle Line Marina\, Pier 83\, West 42nd St. a
 t Hudson River
END:VEVENT
END:VCALENDAR
