BEGIN:VCALENDAR
VERSION:2.0
PRODID:-//Squarespace Inc/Squarespace 6//v6//EN
BEGIN:VEVENT
UID:6095bacb79c8b65221c9061f@squarespace.com
DTSTAMP:20210507T222730Z
DTSTART:20210516T180000Z
DTEND:20210516T193000Z
SUMMARY:Meet the Artists
END:VEVENT
END:VCALENDAR
