BEGIN:VCALENDAR
VERSION:2.0
PRODID:-//Squarespace Inc/Squarespace 6//v6//EN
BEGIN:VEVENT
UID:60ddf6397d40c875c67951c7@squarespace.com
DTSTAMP:20210715T151720Z
DTSTART:20210807T230000Z
DTEND:20210808T030000Z
SUMMARY:Mable Lee's 100th Birthday Celebration
END:VEVENT
END:VCALENDAR
