BEGIN:VCALENDAR
VERSION:2.0
PRODID:-//Squarespace Inc/Squarespace 6//v6//EN
BEGIN:VEVENT
UID:60f05192f8be260d4e46474c@squarespace.com
DTSTAMP:20210826T210819Z
DTSTART:20210919T180000Z
DTEND:20210919T200000Z
SUMMARY:Duke Ellington's Birthday Celebration
END:VEVENT
END:VCALENDAR
