BEGIN:VCALENDAR
VERSION:2.0
PRODID:-//Squarespace Inc/Squarespace 6//v6//EN
BEGIN:VEVENT
UID:6109b0a030a3d33bc1ff1280@squarespace.com
DTSTAMP:20210804T014715Z
DTSTART:20210908T200000Z
DTEND:20210911T155500Z
SUMMARY:Open Houses
END:VEVENT
END:VCALENDAR
