BEGIN:VCALENDAR
VERSION:2.0
PRODID:-//Squarespace Inc/Squarespace 6//v6//EN
BEGIN:VEVENT
UID:6109b5bf85c8dd1523e90c06@squarespace.com
DTSTAMP:20210823T195043Z
DTSTART:20210926T182500Z
DTEND:20211212T210000Z
SUMMARY:Tap Jam
END:VEVENT
END:VCALENDAR
